BEGIN:VCALENDAR
VERSION:2.0
PRODID:-//Riverbend Advisors - ECPv6.0.6.2//NONSGML v1.0//EN
CALSCALE:GREGORIAN
METHOD:PUBLISH
X-ORIGINAL-URL:https://www.riverbendadvisors.com/blog
X-WR-CALDESC:Events for Riverbend Advisors
REFRESH-INTERVAL;VALUE=DURATION:PT1H
X-Robots-Tag:noindex
X-PUBLISHED-TTL:PT1H
BEGIN:VTIMEZONE
TZID:America/New_York
BEGIN:DAYLIGHT
TZOFFSETFROM:-0500
TZOFFSETTO:-0400
TZNAME:EDT
DTSTART:20130310T070000
END:DAYLIGHT
BEGIN:STANDARD
TZOFFSETFROM:-0400
TZOFFSETTO:-0500
TZNAME:EST
DTSTART:20131103T060000
END:STANDARD
END:VTIMEZONE
BEGIN:VEVENT
DTSTART;TZID=America/New_York:20130131T083000
DTEND;TZID=America/New_York:20130131T083000
DTSTAMP:20260421T102624
CREATED:20130128T144944Z
LAST-MODIFIED:20130128T144944Z
UID:760-1359621000-1359621000@www.riverbendadvisors.com
SUMMARY:NECEC: Update and Outlook on Tax & Financing Landscape for Clean Energy
DESCRIPTION:The New England Clean Energy Council’s Policy Series continues with “Update and Outlook on Tax & Financing Landscape for Clean Energy” on Thursday morning\, January 31st\, 2012 from 8:30 am to 10:30 am.   \nThe panel’s topics include: \n\nThe outlook for tax reform in 2013\, and how it could affect the clean energy industry\nA close look at public-private financing mechanisms\nA discussion of the American Tax Relief Act of 2012 (a.k.a. “fiscal cliff tax deal”)\, and how it affects clean energy companies\nThe status of clean energy tax provisions\, such as the Energy Production Tax Credit (Section 48) and the Renewable Electricity Production Tax Credit (Section 45)\nHow Master Limited Partnerships (MLPs) and Real Estate Investment Trusts (REITs) could inject low-cost capital into the clean energy industry\n\nPanelists:    \n\nDustin Stamper\, Director\, Washington National Tax Office\, Grant Thornton\nJordan Collins\, Director of Government Relations\, ML Strategies\nCraig Diamond\, Executive Director\, Connecticut Clean Energy Finance Center>\n\nThe panel will be moderated by Janet Gail Besser\, Vice President\, Policy & Government Affairs\, New England Clean Energy Council. \nThe panel will be held at Grant Thornton’s office at 226 Causeway Street (6th floor)\, Boston.  Registration is free for NECEC members and sponsors\, $40 for others.   \nRegistration and panelist bios here.
URL:https://www.riverbendadvisors.com/blog/event/necec-update-and-outlook-on-tax-financing-landscape-for-clean-energy/
LOCATION:Grant Thornton\, 226 Causeway St.\, 6th floor\, Boston\, United States
CATEGORIES:Finance,NECEC
END:VEVENT
END:VCALENDAR